Workbook

Sheet Entry Area
A1: Resonance Calculations, Variable Capacitor, AM Band to solve Inductance for Antenna Coil and Local Oscillator Coil
A3: Main tuning: | B3: Min: | C3: 10.89 | D3: pF | F3: IF Frequency: | G3: 455 | H3: kHz
B4: Max: | C4: 110 | D4: pF
B5: Set Trimmer: | C5: =((A13^2*C4)-(A14^2*C3))/(A14^2-A13^2) -> 0.0048583307 | D5: pF
A7: Local Osc Tuning: | B7: Min: | C7: 23.19 | D7: pF | I7: =20-7 -> 13
B8: Max: | C8: 110
B9: Set Trimmer: | C9: =((A20^2*C8)-(A21^2*C7))/(A21^2-A20^2) -> 0.031676481 | D9: pF
A11: Main:
A12: kHz | B12: pF | C12: uH
A13: 535 | B13: =C4+C5 -> 110.00486 | C13: ='Math Area'!B4 -> 804.49034
A14: 1700 | B14: =C3+C5 -> 10.894858 | C14: ='Math Area'!B9 -> 804.49034
B16: Average: | C16: =AVERAGE(C13:C14) -> 804.49034 | D16: uH
A18: Local Oscillator:
A19: kHz | B19: pF | C19: uH
A20: =A13+G3 -> 990 | B20: =C8+C9 -> 110.03168 | C20: ='Math Area'!B14 -> 234.8833
A21: =A14+G3 -> 2155 | B21: =C7+C9 -> 23.221676 | C21: ='Math Area'!B19 -> 234.8833
B23: Average: | C23: =AVERAGE(C20:C21) -> 234.8833 | D23: uH
A27: If you want to use a Variable Capacitor, you need to determine if the Main Capacitor and the LO Capacitor are useable.
A28: You also need to see if the trimmers can offset the Inductance enough so that the value comes out the same for the span of the entire band.
A30: 1. Enter the Min-max values of the main tuning capacitor (usually the larger of the two).
A31: 2. Enter the Min-max values of the Local Oscillators tuning capacitor
A32: 3. Adjust the "Set Trimmer" value for the main tuning until the Variance for the Main tuning is under 1%
A33: 4. Adjust the "Set Trimmer" value for the LO tuning until the Variance for the Main tuning is under 1%
A35: You will now have the inductance values for the antenna coil and the LO coil
A38: By Daniel Bingamon - KA8ZPL
A39: Kings Mills Ohio

Sheet Math Area
A1: LC Resonance: | B1: ='Entry Area'!A13 -> 535 | C1: KHz | D1: =B1/1000 -> 0.535 | E1: mHz | F1: =D1*1000000 -> 535000 | G1: Hz
A2: Capacitance: | B2: ='Entry Area'!B13 -> 110.00486 | C2: pF | D2: =B2*(1/1000000000000) -> 1.1000486e-10 | E2: F
A4: Inductance: | B4: =D4*0.001 -> 804.49034 | C4: uH | D4: =(1/(4*PI()*PI()*F1*F1*D2))/(1/1000000000) -> 804490.34 | E4: nH
A6: LC Resonance: | B6: ='Entry Area'!A14 -> 1700 | C6: KHz | D6: =B6/1000 -> 1.7 | E6: mHz | F6: =D6*1000000 -> 1700000 | G6: Hz
A7: Capacitance: | B7: ='Entry Area'!B14 -> 10.894858 | C7: pF | D7: =B7*(1/1000000000000) -> 1.0894858e-11 | E7: F
A9: Inductance: | B9: =D9*0.001 -> 804.49034 | C9: uH | D9: =(1/(4*PI()*PI()*F6*F6*D7))/(1/1000000000) -> 804490.34 | E9: nH
A11: LC Resonance: | B11: ='Entry Area'!A20 -> 990 | C11: KHz | D11: =B11/1000 -> 0.99 | E11: mHz | F11: =D11*1000000 -> 990000 | G11: Hz
A12: Capacitance: | B12: ='Entry Area'!B20 -> 110.03168 | C12: pF | D12: =B12*(1/1000000000000) -> 1.1003168e-10 | E12: F
A14: Inductance: | B14: =D14*0.001 -> 234.8833 | C14: uH | D14: =(1/(4*PI()*PI()*F11*F11*D12))/(1/1000000000) -> 234883.3 | E14: nH
A16: LC Resonance: | B16: ='Entry Area'!A21 -> 2155 | C16: KHz | D16: =B16/1000 -> 2.155 | E16: mHz | F16: =D16*1000000 -> 2155000 | G16: Hz
A17: Capacitance: | B17: ='Entry Area'!B21 -> 23.221676 | C17: pF | D17: =B17*(1/1000000000000) -> 2.3221676e-11 | E17: F
A19: Inductance: | B19: =D19*0.001 -> 234.8833 | C19: uH | D19: =(1/(4*PI()*PI()*F16*F16*D17))/(1/1000000000) -> 234883.3 | E19: nH

Sheet Sheet3
